BEGIN:VCALENDAR
PRODID:-//www.newcastleharness.com.au//EN
VERSION:2.0
METHOD:PUBLISH
BEGIN:VEVENT
DTSTART;TZID=America/New_York:20220610T1800
DTEND;TZID=America/New_York:20220610T2230
URL:https://www.newcastleharness.com.au/events/friday-night-racing-3/
SUMMARY:Friday Night Racing
LOCATION:
DESCRIPTION:Join us for live racing under lights at Newy Trots!

THE GIGG BAR &amp; THE TRACK CANTEEN open.
END:VEVENT
END:VCALENDAR