BEGIN:VCALENDAR
PRODID:-//www.newcastleharness.com.au//EN
VERSION:2.0
METHOD:PUBLISH
BEGIN:VEVENT
DTSTART;TZID=America/New_York:20241206T1800
DTEND;TZID=America/New_York:20241206T2230
URL:https://www.newcastleharness.com.au/events/christmas-parties-the-paceway/
SUMMARY:Christmas Parties @ the Paceway
LOCATION:Newcastle Paceway
DESCRIPTION:Kick up your hooves with your work group, friends or family and celebrate the festive season with a Xmas Party at Newcastle Paceway. Find out more Here
END:VEVENT
END:VCALENDAR