BEGIN:VCALENDAR
PRODID:-//www.newcastleharness.com.au//EN
VERSION:2.0
METHOD:PUBLISH
BEGIN:VEVENT
DTSTART;TZID=America/New_York:20250706T000
DTEND;TZID=America/New_York:20250706T000
URL:https://www.newcastleharness.com.au/events/parking-wallabies-v-fiji/
SUMMARY:PARKING - Wallabies v Fiji Rugby
LOCATION:
DESCRIPTION:Are you heading to the Wallabies v Fiji Rugby game at McDonald Jones Stadium on Sunday 6 July?

Newcastle Paceway offers convenient parking in our Jackson St Car Park for $15 per vehicle and direct access to the Stadium via the Eastern Stand.
END:VEVENT
END:VCALENDAR