BEGIN:VCALENDAR
PRODID:-//www.newcastleharness.com.au//EN
VERSION:2.0
METHOD:PUBLISH
BEGIN:VEVENT
DTSTART;TZID=America/New_York:20220218T1800
DTEND;TZID=America/New_York:20220218T2230
URL:https://www.newcastleharness.com.au/events/summer-nights-at-the-paceway/
SUMMARY:Summer Nights at The Paceway
LOCATION:
DESCRIPTION:Summer Nights at The Paceway are full of cool racing action under lights.  Relaxed atmosphere, casual eats, a coupla drinks, a coupla bets, your friends and fam and you&#039;re all set for a chilled Summer night.
END:VEVENT
END:VCALENDAR